BEGIN:VCALENDAR
VERSION:2.0
PRODID:-//Jagdverein Hubertus Bad Homburg e.V. - ECPv6.15.20//NONSGML v1.0//EN
CALSCALE:GREGORIAN
METHOD:PUBLISH
X-ORIGINAL-URL:https://jagdverein-hubertus.de
X-WR-CALDESC:Veranstaltungen für Jagdverein Hubertus Bad Homburg e.V.
REFRESH-INTERVAL;VALUE=DURATION:PT1H
X-Robots-Tag:noindex
X-PUBLISHED-TTL:PT1H
BEGIN:VTIMEZONE
TZID:Europe/Berlin
BEGIN:DAYLIGHT
TZOFFSETFROM:+0100
TZOFFSETTO:+0200
TZNAME:CEST
DTSTART:20250330T010000
END:DAYLIGHT
BEGIN:STANDARD
TZOFFSETFROM:+0200
TZOFFSETTO:+0100
TZNAME:CET
DTSTART:20251026T010000
END:STANDARD
BEGIN:DAYLIGHT
TZOFFSETFROM:+0100
TZOFFSETTO:+0200
TZNAME:CEST
DTSTART:20260329T010000
END:DAYLIGHT
BEGIN:STANDARD
TZOFFSETFROM:+0200
TZOFFSETTO:+0100
TZNAME:CET
DTSTART:20261025T010000
END:STANDARD
BEGIN:DAYLIGHT
TZOFFSETFROM:+0100
TZOFFSETTO:+0200
TZNAME:CEST
DTSTART:20270328T010000
END:DAYLIGHT
BEGIN:STANDARD
TZOFFSETFROM:+0200
TZOFFSETTO:+0100
TZNAME:CET
DTSTART:20271031T010000
END:STANDARD
END:VTIMEZONE
BEGIN:VEVENT
DTSTART;TZID=Europe/Berlin:20260513T200000
DTEND;TZID=Europe/Berlin:20260513T210000
DTSTAMP:20260422T053605
CREATED:20260211T072547Z
LAST-MODIFIED:20260211T075831Z
UID:2658-1778702400-1778706000@jagdverein-hubertus.de
SUMMARY:Schießkino Wetzlar
DESCRIPTION:Infos zur Kontaktaufnahme und ein Mailformular finden sie hier.: https://jagdverein-hubertus.de/schiesskino-aktion/
URL:https://jagdverein-hubertus.de/event/schiesskino-wetzlar-18/
LOCATION:Schießkino Wetzlar\, Sudetenstr. 67\, Wetzlar\, Hessen\, 35581\, Deutschland
CATEGORIES:Schießkino
END:VEVENT
END:VCALENDAR