BEGIN:VCALENDAR
VERSION:2.0
PRODID:-//Jagdverein Hubertus Bad Homburg e.V. - ECPv6.15.20//NONSGML v1.0//EN
CALSCALE:GREGORIAN
METHOD:PUBLISH
X-WR-CALNAME:Jagdverein Hubertus Bad Homburg e.V.
X-ORIGINAL-URL:https://jagdverein-hubertus.de
X-WR-CALDESC:Veranstaltungen für Jagdverein Hubertus Bad Homburg e.V.
REFRESH-INTERVAL;VALUE=DURATION:PT1H
X-Robots-Tag:noindex
X-PUBLISHED-TTL:PT1H
BEGIN:VTIMEZONE
TZID:Europe/Berlin
BEGIN:DAYLIGHT
TZOFFSETFROM:+0100
TZOFFSETTO:+0200
TZNAME:CEST
DTSTART:20240331T010000
END:DAYLIGHT
BEGIN:STANDARD
TZOFFSETFROM:+0200
TZOFFSETTO:+0100
TZNAME:CET
DTSTART:20241027T010000
END:STANDARD
BEGIN:DAYLIGHT
TZOFFSETFROM:+0100
TZOFFSETTO:+0200
TZNAME:CEST
DTSTART:20250330T010000
END:DAYLIGHT
BEGIN:STANDARD
TZOFFSETFROM:+0200
TZOFFSETTO:+0100
TZNAME:CET
DTSTART:20251026T010000
END:STANDARD
BEGIN:DAYLIGHT
TZOFFSETFROM:+0100
TZOFFSETTO:+0200
TZNAME:CEST
DTSTART:20260329T010000
END:DAYLIGHT
BEGIN:STANDARD
TZOFFSETFROM:+0200
TZOFFSETTO:+0100
TZNAME:CET
DTSTART:20261025T010000
END:STANDARD
BEGIN:DAYLIGHT
TZOFFSETFROM:+0100
TZOFFSETTO:+0200
TZNAME:CEST
DTSTART:20270328T010000
END:DAYLIGHT
BEGIN:STANDARD
TZOFFSETFROM:+0200
TZOFFSETTO:+0100
TZNAME:CET
DTSTART:20271031T010000
END:STANDARD
END:VTIMEZONE
BEGIN:VEVENT
DTSTART;TZID=Europe/Berlin:20260401T193000
DTEND;TZID=Europe/Berlin:20260401T213000
DTSTAMP:20260422T024413
CREATED:20260126T135627Z
LAST-MODIFIED:20260126T135628Z
UID:2643-1775071800-1775079000@jagdverein-hubertus.de
SUMMARY:Jägerstammtisch - Jeden ersten Mittwoch im Monat
DESCRIPTION:Der Hubertus-Stammtisch an jedem ersten Mittwoch im Monat ab 19.30 Uhr im/am Jägerhaus.  \n\n\n\nWir treffen uns zum geselligen Beisammensein und gelegentlich / mit Vorankündigung erwartet uns außerdem ein thematischer Programmpunkt. \n\n\n\nHier auf der Website oder per WhatsApp halten wir Sie dazu auf dem Laufenden. Für Informationen via WhatsApp melden Sie sich bitte per Email bei Jorrit Hoffmann\, 2. Vorsitzender.  \n\n\n\nVon hier direkt über unser Mailformular erreichbar!
URL:https://jagdverein-hubertus.de/event/jaegerstammtisch-jeden-ersten-mittwoch-im-monat-28/
LOCATION:Jägerhaus Hubertus\, Usinger Weg 100\, Bad Homburg\, Hessen\, 61350\, Deutschland
CATEGORIES:Veranstaltungen
END:VEVENT
BEGIN:VEVENT
DTSTART;TZID=Europe/Berlin:20260304T193000
DTEND;TZID=Europe/Berlin:20260304T213000
DTSTAMP:20260422T024413
CREATED:20260126T135449Z
LAST-MODIFIED:20260302T172306Z
UID:2641-1772652600-1772659800@jagdverein-hubertus.de
SUMMARY:Jägerstammtisch - Angrillen
DESCRIPTION:Der Hubertus-Stammtisch an jedem ersten Mittwoch im Monat ab 19.30 Uhr im/am Jägerhaus.  \n\n\n\nWir treffen uns zum geselligen Beisammensein und gelegentlich / mit Vorankündigung erwartet uns außerdem ein thematischer Programmpunkt. \n\n\n\nHier auf der Website oder per WhatsApp halten wir Sie dazu auf dem Laufenden. Für Informationen via WhatsApp melden Sie sich bitte per Email bei Jorrit Hoffmann\, 2. Vorsitzender.  \n\n\n\nVon hier direkt über unser Mailformular erreichbar!
URL:https://jagdverein-hubertus.de/event/jaegerstammtisch-jeden-ersten-mittwoch-im-monat-26/
LOCATION:Jägerhaus Hubertus\, Usinger Weg 100\, Bad Homburg\, Hessen\, 61350\, Deutschland
CATEGORIES:Veranstaltungen
END:VEVENT
BEGIN:VEVENT
DTSTART;TZID=Europe/Berlin:20260204T193000
DTEND;TZID=Europe/Berlin:20260204T213000
DTSTAMP:20260422T024413
CREATED:20260124T145956Z
LAST-MODIFIED:20260126T135527Z
UID:2521-1770233400-1770240600@jagdverein-hubertus.de
SUMMARY:Jägerstammtisch - Jeden ersten Mittwoch im Monat
DESCRIPTION:Der Hubertus-Stammtisch an jedem ersten Mittwoch im Monat ab 19.30 Uhr im/am Jägerhaus.  \n\n\n\nWir treffen uns zum geselligen Beisammensein und gelegentlich / mit Vorankündigung erwartet uns außerdem ein thematischer Programmpunkt. \n\n\n\nHier auf der Website oder per WhatsApp halten wir Sie dazu auf dem Laufenden. Für Informationen via WhatsApp melden Sie sich bitte per Email bei Jorrit Hoffmann\, 2. Vorsitzender.  \n\n\n\nVon hier direkt über unser Mailformular erreichbar!
URL:https://jagdverein-hubertus.de/event/jaegerstammtisch-jeden-ersten-mittwoch-im-monat-25/
LOCATION:Jägerhaus Hubertus\, Usinger Weg 100\, Bad Homburg\, Hessen\, 61350\, Deutschland
CATEGORIES:Veranstaltungen
END:VEVENT
BEGIN:VEVENT
DTSTART;TZID=Europe/Berlin:20251203T193000
DTEND;TZID=Europe/Berlin:20251203T213000
DTSTAMP:20260422T024413
CREATED:20250714T140109Z
LAST-MODIFIED:20251129T135211Z
UID:2525-1764790200-1764797400@jagdverein-hubertus.de
SUMMARY:Jägerstammtisch - Messerschleif Seminar
DESCRIPTION:Im Rahmen unseres Hubertus Stammtisches findet ein Messerschleif Seminar statt.Der Hubertus-Stammtisch an jedem ersten Mittwoch im Monat ab 19.30 Uhr im/am Jägerhaus.  \n\n\n\nWir treffen uns zum geselligen Beisammensein und gelegentlich / mit Vorankündigung erwartet uns außerdem ein thematischer Programmpunkt. \n\n\n\nHier auf der Website oder per WhatsApp halten wir Sie dazu auf dem Laufenden. Für Informationen via WhatsApp melden Sie sich bitte per Email bei Jorrit Hoffmann\, 2. Vorsitzender.  \n\n\n\nVon hier direkt über unser Mailformular erreichbar!
URL:https://jagdverein-hubertus.de/event/jaegerstammtisch-jeden-ersten-mittwoch-im-monat-27/
LOCATION:Jägerhaus Hubertus\, Usinger Weg 100\, Bad Homburg\, Hessen\, 61350\, Deutschland
CATEGORIES:Veranstaltungen
END:VEVENT
BEGIN:VEVENT
DTSTART;TZID=Europe/Berlin:20251122T093000
DTEND;TZID=Europe/Berlin:20251122T130000
DTSTAMP:20260422T024413
CREATED:20250417T110552Z
LAST-MODIFIED:20250417T161907Z
UID:2476-1763803800-1763816400@jagdverein-hubertus.de
SUMMARY:Vereinsschießen
DESCRIPTION:Damit die Schützen zeitlich eingeteilt werden können\, ist eine telefonische Anmeldung sinnvoll.Ein kurzer Anruf bei Herrn Kügel genügt zur Teilnahme am Schießen. \n\n\n\nEbenso können auch wieder Jahresschießnadeln\, nach vorheriger Absprache geschossen werden. \n\n\n\nTelefonische Anmeldung bei Dieter Kügel\, Tel.: 0171-6107566 oder 06171-54576 \n\n\n\nInformationen zur Anmeldung und Ablauf finden sie hier.
URL:https://jagdverein-hubertus.de/event/vereinsschiessen-20/
LOCATION:Schießstand Usingen\, Ostrandstr.\, Usingen\, Hessen\, 61250\, Deutschland
CATEGORIES:Vereinsschießen
END:VEVENT
BEGIN:VEVENT
DTSTART;TZID=Europe/Berlin:20251119T200000
DTEND;TZID=Europe/Berlin:20251119T210000
DTSTAMP:20260422T024413
CREATED:20250115T173036Z
LAST-MODIFIED:20260211T075839Z
UID:2390-1763582400-1763586000@jagdverein-hubertus.de
SUMMARY:Schießkino Wetzlar
DESCRIPTION:Infos zur Kontaktaufnahme und ein Mailformular finden sie hier.: https://jagdverein-hubertus.de/schiesskino-aktion/
URL:https://jagdverein-hubertus.de/event/schiesskino-wetzlar-17/
LOCATION:Schießkino Wetzlar\, Sudetenstr. 67\, Wetzlar\, Hessen\, 35581\, Deutschland
CATEGORIES:Schießkino
END:VEVENT
BEGIN:VEVENT
DTSTART;TZID=Europe/Berlin:20251118T200000
DTEND;TZID=Europe/Berlin:20251118T210000
DTSTAMP:20260422T024413
CREATED:20250115T172336Z
LAST-MODIFIED:20250115T172337Z
UID:2379-1763496000-1763499600@jagdverein-hubertus.de
SUMMARY:Schießkino Hitpoint Steinbach
DESCRIPTION:Infos zur Kontaktaufnahme und ein Mailformular finden sie hier.: https://jagdverein-hubertus.de/schiesskino-aktion/
URL:https://jagdverein-hubertus.de/event/schiesskino-hitpoint-steinbach-20/
LOCATION:Schießkino Hitpiont Steinbach\, Bahnstr. 51\, Steinbach\, Hessen\, 61449\, Deutschland
CATEGORIES:Schießkino
END:VEVENT
BEGIN:VEVENT
DTSTART;TZID=Europe/Berlin:20251115T190000
DTEND;TZID=Europe/Berlin:20251115T235900
DTSTAMP:20260422T024413
CREATED:20251026T143658Z
LAST-MODIFIED:20251026T143837Z
UID:2588-1763233200-1763251140@jagdverein-hubertus.de
SUMMARY:Hubertusfeier 2025
DESCRIPTION:Unsere traditionelle Hubertusfeier im Vereinsheim. \n\n\n\nInfos hier in diesem Beitrag
URL:https://jagdverein-hubertus.de/event/hubertusfeier-2025/
LOCATION:Jägerhaus Hubertus\, Usinger Weg 100\, Bad Homburg\, Hessen\, 61350\, Deutschland
CATEGORIES:Veranstaltungen
END:VEVENT
BEGIN:VEVENT
DTSTART;TZID=Europe/Berlin:20251105T193000
DTEND;TZID=Europe/Berlin:20251105T193000
DTSTAMP:20260422T024413
CREATED:20250714T140036Z
LAST-MODIFIED:20251025T121831Z
UID:2523-1762371000-1762371000@jagdverein-hubertus.de
SUMMARY:Jahreshauptversammlung
DESCRIPTION:Genaue Infos und die Einladung finden sie hier. \n\n\n\n \n\n\n\n \n\n\n\n \n\n\n\nVon hier direkt über unser Mailformular erreichbar!
URL:https://jagdverein-hubertus.de/event/jahreshauptversammlung-2025/
LOCATION:Jägerhaus Hubertus\, Usinger Weg 100\, Bad Homburg\, Hessen\, 61350\, Deutschland
CATEGORIES:Veranstaltungen
END:VEVENT
BEGIN:VEVENT
DTSTART;TZID=Europe/Berlin:20251029T200000
DTEND;TZID=Europe/Berlin:20251029T210000
DTSTAMP:20260422T024413
CREATED:20250115T172239Z
LAST-MODIFIED:20250115T172246Z
UID:2377-1761768000-1761771600@jagdverein-hubertus.de
SUMMARY:Schießkino Hitpoint Steinbach
DESCRIPTION:Infos zur Kontaktaufnahme und ein Mailformular finden sie hier.: https://jagdverein-hubertus.de/schiesskino-aktion/
URL:https://jagdverein-hubertus.de/event/schiesskino-hitpoint-steinbach-19/
LOCATION:Schießkino Hitpiont Steinbach\, Bahnstr. 51\, Steinbach\, Hessen\, 61449\, Deutschland
CATEGORIES:Schießkino
END:VEVENT
BEGIN:VEVENT
DTSTART;TZID=Europe/Berlin:20251025T093000
DTEND;TZID=Europe/Berlin:20251025T130000
DTSTAMP:20260422T024413
CREATED:20250417T110506Z
LAST-MODIFIED:20250424T094213Z
UID:2474-1761384600-1761397200@jagdverein-hubertus.de
SUMMARY:Vereinsschießen
DESCRIPTION:Damit die Schützen zeitlich eingeteilt werden können\, ist eine telefonische Anmeldung sinnvoll.Ein kurzer Anruf bei Herrn Kügel genügt zur Teilnahme am Schießen. \n\n\n\nEbenso können auch wieder Jahresschießnadeln\, nach vorheriger Absprache geschossen werden. \n\n\n\nTelefonische Anmeldung bei Dieter Kügel\, Tel.: 0171-6107566 oder 06171-54576 \n\n\n\nInformationen zur Anmeldung und Ablauf finden sie hier.
URL:https://jagdverein-hubertus.de/event/vereinsschiessen-19/
LOCATION:Schießstand Usingen\, Ostrandstr.\, Usingen\, Hessen\, 61250\, Deutschland
CATEGORIES:Vereinsschießen
END:VEVENT
BEGIN:VEVENT
DTSTART;TZID=Europe/Berlin:20251022T200000
DTEND;TZID=Europe/Berlin:20251022T210000
DTSTAMP:20260422T024413
CREATED:20250115T172919Z
LAST-MODIFIED:20260211T075848Z
UID:2388-1761163200-1761166800@jagdverein-hubertus.de
SUMMARY:Schießkino Wetzlar
DESCRIPTION:Infos zur Kontaktaufnahme und ein Mailformular finden sie hier.: https://jagdverein-hubertus.de/schiesskino-aktion/
URL:https://jagdverein-hubertus.de/event/schiesskino-wetzlar-16/
LOCATION:Schießkino Wetzlar\, Sudetenstr. 67\, Wetzlar\, Hessen\, 35581\, Deutschland
CATEGORIES:Schießkino
END:VEVENT
BEGIN:VEVENT
DTSTART;TZID=Europe/Berlin:20250927T093000
DTEND;TZID=Europe/Berlin:20250927T130000
DTSTAMP:20260422T024413
CREATED:20250417T110432Z
LAST-MODIFIED:20250417T110432Z
UID:2472-1758965400-1758978000@jagdverein-hubertus.de
SUMMARY:Vereinsschießen
DESCRIPTION:Damit die Schützen zeitlich eingeteilt werden können\, ist eine telefonische Anmeldung sinnvoll.Ein kurzer Anruf bei Herrn Kügel genügt zur Teilnahme am Schießen. \n\n\n\nEbenso können auch wieder Jahresschießnadeln\, nach vorheriger Absprache geschossen werden. \n\n\n\nTelefonische Anmeldung bei Dieter Kügel\, Tel.: 0171-6107566 oder 06171-54576 \n\n\n\nInformationen zur Anmeldung und Ablauf finden sie hier.
URL:https://jagdverein-hubertus.de/event/vereinsschiessen-18/
LOCATION:Schießstand Usingen\, Ostrandstr.\, Usingen\, Hessen\, 61250\, Deutschland
CATEGORIES:Vereinsschießen
END:VEVENT
BEGIN:VEVENT
DTSTART;TZID=Europe/Berlin:20250923T200000
DTEND;TZID=Europe/Berlin:20250923T210000
DTSTAMP:20260422T024413
CREATED:20250115T172136Z
LAST-MODIFIED:20250115T172138Z
UID:2375-1758657600-1758661200@jagdverein-hubertus.de
SUMMARY:Schießkino Hitpoint Steinbach
DESCRIPTION:Infos zur Kontaktaufnahme und ein Mailformular finden sie hier.: https://jagdverein-hubertus.de/schiesskino-aktion/
URL:https://jagdverein-hubertus.de/event/schiesskino-hitpoint-steinbach-18/
LOCATION:Schießkino Hitpiont Steinbach\, Bahnstr. 51\, Steinbach\, Hessen\, 61449\, Deutschland
CATEGORIES:Schießkino
END:VEVENT
BEGIN:VEVENT
DTSTART;TZID=Europe/Berlin:20250917T200000
DTEND;TZID=Europe/Berlin:20250917T210000
DTSTAMP:20260422T024413
CREATED:20250115T172830Z
LAST-MODIFIED:20260211T075923Z
UID:2386-1758139200-1758142800@jagdverein-hubertus.de
SUMMARY:Schießkino Wetzlar
DESCRIPTION:Infos zur Kontaktaufnahme und ein Mailformular finden sie hier.: https://jagdverein-hubertus.de/schiesskino-aktion/
URL:https://jagdverein-hubertus.de/event/schiesskino-wetzlar-15/
LOCATION:Schießkino Wetzlar\, Sudetenstr. 67\, Wetzlar\, Hessen\, 35581\, Deutschland
CATEGORIES:Schießkino
END:VEVENT
BEGIN:VEVENT
DTSTART;TZID=Europe/Berlin:20250903T193000
DTEND;TZID=Europe/Berlin:20250903T213000
DTSTAMP:20260422T024413
CREATED:20250714T135912Z
LAST-MODIFIED:20250901T140431Z
UID:2519-1756927800-1756935000@jagdverein-hubertus.de
SUMMARY:Jägerstammtisch - Thema Nachtsichttechnik
DESCRIPTION:Der Hubertus-Stammtisch an jedem ersten Mittwoch im Monat ab 19.30 Uhr im/am Jägerhaus.  \n\n\n\n\nStammtisch – Thema Nachtsichttechnik\n\n\n\n\nWir treffen uns zum geselligen Beisammensein und gelegentlich / mit Vorankündigung erwartet uns außerdem ein thematischer Programmpunkt. \n\n\n\nHier auf der Website oder per WhatsApp halten wir Sie dazu auf dem Laufenden. Für Informationen via WhatsApp melden Sie sich bitte per Email bei Jorrit Hoffmann\, 2. Vorsitzender.  \n\n\n\nVon hier direkt über unser Mailformular erreichbar!
URL:https://jagdverein-hubertus.de/event/jaegerstammtisch-jeden-ersten-mittwoch-im-monat-24/
LOCATION:Jägerhaus Hubertus\, Usinger Weg 100\, Bad Homburg\, Hessen\, 61350\, Deutschland
CATEGORIES:Veranstaltungen
END:VEVENT
BEGIN:VEVENT
DTSTART;TZID=Europe/Berlin:20250826T200000
DTEND;TZID=Europe/Berlin:20250826T210000
DTSTAMP:20260422T024413
CREATED:20250115T172054Z
LAST-MODIFIED:20250115T172100Z
UID:2373-1756238400-1756242000@jagdverein-hubertus.de
SUMMARY:Schießkino Hitpoint Steinbach
DESCRIPTION:Infos zur Kontaktaufnahme und ein Mailformular finden sie hier.: https://jagdverein-hubertus.de/schiesskino-aktion/
URL:https://jagdverein-hubertus.de/event/schiesskino-hitpoint-steinbach-17/
LOCATION:Schießkino Hitpiont Steinbach\, Bahnstr. 51\, Steinbach\, Hessen\, 61449\, Deutschland
CATEGORIES:Schießkino
END:VEVENT
BEGIN:VEVENT
DTSTART;TZID=Europe/Berlin:20250823T093000
DTEND;TZID=Europe/Berlin:20250823T130000
DTSTAMP:20260422T024413
CREATED:20250417T110331Z
LAST-MODIFIED:20250417T110332Z
UID:2470-1755941400-1755954000@jagdverein-hubertus.de
SUMMARY:Vereinsschießen
DESCRIPTION:Damit die Schützen zeitlich eingeteilt werden können\, ist eine telefonische Anmeldung sinnvoll.Ein kurzer Anruf bei Herrn Kügel genügt zur Teilnahme am Schießen. \n\n\n\nEbenso können auch wieder Jahresschießnadeln\, nach vorheriger Absprache geschossen werden. \n\n\n\nTelefonische Anmeldung bei Dieter Kügel\, Tel.: 0171-6107566 oder 06171-54576 \n\n\n\nInformationen zur Anmeldung und Ablauf finden sie hier.
URL:https://jagdverein-hubertus.de/event/vereinsschiessen-17/
LOCATION:Schießstand Usingen\, Ostrandstr.\, Usingen\, Hessen\, 61250\, Deutschland
CATEGORIES:Vereinsschießen
END:VEVENT
BEGIN:VEVENT
DTSTART;TZID=Europe/Berlin:20250726T093000
DTEND;TZID=Europe/Berlin:20250726T130000
DTSTAMP:20260422T024413
CREATED:20250417T110233Z
LAST-MODIFIED:20250417T110234Z
UID:2468-1753522200-1753534800@jagdverein-hubertus.de
SUMMARY:Vereinsschießen
DESCRIPTION:Damit die Schützen zeitlich eingeteilt werden können\, ist eine telefonische Anmeldung sinnvoll.Ein kurzer Anruf bei Herrn Kügel genügt zur Teilnahme am Schießen. \n\n\n\nEbenso können auch wieder Jahresschießnadeln\, nach vorheriger Absprache geschossen werden. \n\n\n\nTelefonische Anmeldung bei Dieter Kügel\, Tel.: 0171-6107566 oder 06171-54576 \n\n\n\nInformationen zur Anmeldung und Ablauf finden sie hier.
URL:https://jagdverein-hubertus.de/event/vereinsschiessen-16/
LOCATION:Schießstand Usingen\, Ostrandstr.\, Usingen\, Hessen\, 61250\, Deutschland
CATEGORIES:Vereinsschießen
END:VEVENT
BEGIN:VEVENT
DTSTART;TZID=Europe/Berlin:20250716T200000
DTEND;TZID=Europe/Berlin:20250716T210000
DTSTAMP:20260422T024413
CREATED:20250115T172753Z
LAST-MODIFIED:20260211T075854Z
UID:2384-1752696000-1752699600@jagdverein-hubertus.de
SUMMARY:Schießkino Wetzlar
DESCRIPTION:Infos zur Kontaktaufnahme und ein Mailformular finden sie hier.: https://jagdverein-hubertus.de/schiesskino-aktion/
URL:https://jagdverein-hubertus.de/event/schiesskino-wetzlar-14/
LOCATION:Schießkino Wetzlar\, Sudetenstr. 67\, Wetzlar\, Hessen\, 35581\, Deutschland
CATEGORIES:Schießkino
END:VEVENT
BEGIN:VEVENT
DTSTART;TZID=Europe/Berlin:20250715T200000
DTEND;TZID=Europe/Berlin:20250715T210000
DTSTAMP:20260422T024413
CREATED:20250115T171949Z
LAST-MODIFIED:20250115T172011Z
UID:2371-1752609600-1752613200@jagdverein-hubertus.de
SUMMARY:Schießkino Hitpoint Steinbach
DESCRIPTION:Infos zur Kontaktaufnahme und ein Mailformular finden sie hier.: https://jagdverein-hubertus.de/schiesskino-aktion/
URL:https://jagdverein-hubertus.de/event/schiesskino-hitpoint-steinbach-16/
LOCATION:Schießkino Hitpiont Steinbach\, Bahnstr. 51\, Steinbach\, Hessen\, 61449\, Deutschland
CATEGORIES:Schießkino
END:VEVENT
BEGIN:VEVENT
DTSTART;TZID=Europe/Berlin:20250702T193000
DTEND;TZID=Europe/Berlin:20250702T213000
DTSTAMP:20260422T024413
CREATED:20250313T143237Z
LAST-MODIFIED:20250313T143238Z
UID:2444-1751484600-1751491800@jagdverein-hubertus.de
SUMMARY:Jägerstammtisch - Jeden ersten Mittwoch im Monat
DESCRIPTION:Der Hubertus-Stammtisch an jedem ersten Mittwoch im Monat ab 19.30 Uhr im/am Jägerhaus.  \n\n\n\nWir treffen uns zum geselligen Beisammensein und gelegentlich / mit Vorankündigung erwartet uns außerdem ein thematischer Programmpunkt. \n\n\n\nHier auf der Website oder per WhatsApp halten wir Sie dazu auf dem Laufenden. Für Informationen via WhatsApp melden Sie sich bitte per Email bei Jorrit Hoffmann\, 2. Vorsitzender.  \n\n\n\nVon hier direkt über unser Mailformular erreichbar!
URL:https://jagdverein-hubertus.de/event/jaegerstammtisch-jeden-ersten-mittwoch-im-monat-23/
LOCATION:Jägerhaus Hubertus\, Usinger Weg 100\, Bad Homburg\, Hessen\, 61350\, Deutschland
CATEGORIES:Veranstaltungen
END:VEVENT
BEGIN:VEVENT
DTSTART;TZID=Europe/Berlin:20250628T093000
DTEND;TZID=Europe/Berlin:20250628T130000
DTSTAMP:20260422T024413
CREATED:20250417T110140Z
LAST-MODIFIED:20250424T094341Z
UID:2466-1751103000-1751115600@jagdverein-hubertus.de
SUMMARY:Vereinsschießen
DESCRIPTION:Damit die Schützen zeitlich eingeteilt werden können\, ist eine telefonische Anmeldung sinnvoll.Ein kurzer Anruf bei Herrn Kügel genügt zur Teilnahme am Schießen. \n\n\n\nEbenso können auch wieder Jahresschießnadeln\, nach vorheriger Absprache geschossen werden. \n\n\n\nTelefonische Anmeldung bei Dieter Kügel\, Tel.: 0171-6107566 oder 06171-54576 \n\n\n\nInformationen zur Anmeldung und Ablauf finden sie hier.
URL:https://jagdverein-hubertus.de/event/vereinsschiessen-15/
LOCATION:Schießstand Usingen\, Ostrandstr.\, Usingen\, Hessen\, 61250\, Deutschland
CATEGORIES:Vereinsschießen
END:VEVENT
BEGIN:VEVENT
DTSTART;TZID=Europe/Berlin:20250604T193000
DTEND;TZID=Europe/Berlin:20250604T213000
DTSTAMP:20260422T024413
CREATED:20250313T143137Z
LAST-MODIFIED:20250313T143138Z
UID:2442-1749065400-1749072600@jagdverein-hubertus.de
SUMMARY:Jägerstammtisch - Jeden ersten Mittwoch im Monat
DESCRIPTION:Der Hubertus-Stammtisch an jedem ersten Mittwoch im Monat ab 19.30 Uhr im/am Jägerhaus.  \n\n\n\nWir treffen uns zum geselligen Beisammensein und gelegentlich / mit Vorankündigung erwartet uns außerdem ein thematischer Programmpunkt. \n\n\n\nHier auf der Website oder per WhatsApp halten wir Sie dazu auf dem Laufenden. Für Informationen via WhatsApp melden Sie sich bitte per Email bei Jorrit Hoffmann\, 2. Vorsitzender.  \n\n\n\nVon hier direkt über unser Mailformular erreichbar!
URL:https://jagdverein-hubertus.de/event/jaegerstammtisch-jeden-ersten-mittwoch-im-monat-22/
LOCATION:Jägerhaus Hubertus\, Usinger Weg 100\, Bad Homburg\, Hessen\, 61350\, Deutschland
CATEGORIES:Veranstaltungen
END:VEVENT
BEGIN:VEVENT
DTSTART;TZID=Europe/Berlin:20250603T200000
DTEND;TZID=Europe/Berlin:20250603T210000
DTSTAMP:20260422T024413
CREATED:20250115T171831Z
LAST-MODIFIED:20250115T171843Z
UID:2369-1748980800-1748984400@jagdverein-hubertus.de
SUMMARY:Schießkino Hitpoint Steinbach
DESCRIPTION:Infos zur Kontaktaufnahme und ein Mailformular finden sie hier.: https://jagdverein-hubertus.de/schiesskino-aktion/
URL:https://jagdverein-hubertus.de/event/schiesskino-hitpoint-steinbach-15/
LOCATION:Schießkino Hitpiont Steinbach\, Bahnstr. 51\, Steinbach\, Hessen\, 61449\, Deutschland
CATEGORIES:Schießkino
END:VEVENT
BEGIN:VEVENT
DTSTART;TZID=Europe/Berlin:20250528T200000
DTEND;TZID=Europe/Berlin:20250528T210000
DTSTAMP:20260422T024413
CREATED:20250115T172607Z
LAST-MODIFIED:20260211T075903Z
UID:2382-1748462400-1748466000@jagdverein-hubertus.de
SUMMARY:Schießkino Wetzlar
DESCRIPTION:Infos zur Kontaktaufnahme und ein Mailformular finden sie hier.: https://jagdverein-hubertus.de/schiesskino-aktion/
URL:https://jagdverein-hubertus.de/event/schiesskino-wetzlar-13/
LOCATION:Schießkino Wetzlar\, Sudetenstr. 67\, Wetzlar\, Hessen\, 35581\, Deutschland
CATEGORIES:Schießkino
END:VEVENT
BEGIN:VEVENT
DTSTART;TZID=Europe/Berlin:20250524T093000
DTEND;TZID=Europe/Berlin:20250524T130000
DTSTAMP:20260422T024413
CREATED:20250417T110050Z
LAST-MODIFIED:20250424T094247Z
UID:2464-1748079000-1748091600@jagdverein-hubertus.de
SUMMARY:Vereinsschießen
DESCRIPTION:Damit die Schützen zeitlich eingeteilt werden können\, ist eine telefonische Anmeldung sinnvoll.Ein kurzer Anruf bei Herrn Kügel genügt zur Teilnahme am Schießen. \n\n\n\nEbenso können auch wieder Jahresschießnadeln\, nach vorheriger Absprache geschossen werden. \n\n\n\nTelefonische Anmeldung bei Dieter Kügel\, Tel.: 0171-6107566 oder 06171-54576 \n\n\n\nInformationen zur Anmeldung und Ablauf finden sie hier.
URL:https://jagdverein-hubertus.de/event/vereinsschiessen-14/
LOCATION:Schießstand Usingen\, Ostrandstr.\, Usingen\, Hessen\, 61250\, Deutschland
CATEGORIES:Vereinsschießen
END:VEVENT
BEGIN:VEVENT
DTSTART;TZID=Europe/Berlin:20250507T193000
DTEND;TZID=Europe/Berlin:20250507T213000
DTSTAMP:20260422T024413
CREATED:20250422T093506Z
LAST-MODIFIED:20250424T094001Z
UID:2440-1746646200-1746653400@jagdverein-hubertus.de
SUMMARY:Jägerstammtisch - "Erweiterter Erste Hilfe Kurs"
DESCRIPTION:Der Hubertus-Stammtisch an jedem ersten Mittwoch im Monat ab 19.30 Uhr im/am Jägerhaus.  \n\n\n\nThema ist ein „erweiterter Erste Hilfe Kurs“. Weitere Informationen hier in diesem Beitrag. \n\n\n\n \n\n\n\nWir treffen uns zum geselligen Beisammensein und gelegentlich / mit Vorankündigung erwartet uns außerdem ein thematischer Programmpunkt. \n\n\n\nHier auf der Website oder per WhatsApp halten wir Sie dazu auf dem Laufenden. Für Informationen via WhatsApp melden Sie sich bitte per Email bei Jorrit Hoffmann\, 2. Vorsitzender.  \n\n\n\nVon hier direkt über unser Mailformular erreichbar!
URL:https://jagdverein-hubertus.de/event/jaegerstammtisch-jeden-ersten-mittwoch-im-monat-21/
LOCATION:Jägerhaus Hubertus\, Usinger Weg 100\, Bad Homburg\, Hessen\, 61350\, Deutschland
CATEGORIES:Veranstaltungen
END:VEVENT
BEGIN:VEVENT
DTSTART;TZID=Europe/Berlin:20250426T093000
DTEND;TZID=Europe/Berlin:20250426T130000
DTSTAMP:20260422T024413
CREATED:20250417T105456Z
LAST-MODIFIED:20250417T105826Z
UID:2460-1745659800-1745672400@jagdverein-hubertus.de
SUMMARY:Vereinsschießen - entfällt !!!
DESCRIPTION:!!! Aufgrund von Arbeitseinsätzen am Schießstand entfällt dieser Termin !!!Damit die Schützen zeitlich eingeteilt werden können\, ist eine telefonische Anmeldung sinnvoll.Ein kurzer Anruf bei Herrn Kügel genügt zur Teilnahme am Schießen. \n\n\n\nEbenso können auch wieder Jahresschießnadeln\, nach vorheriger Absprache geschossen werden. \n\n\n\nTelefonische Anmeldung bei Dieter Kügel\, Tel.: 0171-6107566 oder 06171-54576 \n\n\n\nInformationen zur Anmeldung und Ablauf finden sie hier.
URL:https://jagdverein-hubertus.de/event/vereinsschiessen-entfaellt/
LOCATION:Schießstand Usingen\, Ostrandstr.\, Usingen\, Hessen\, 61250\, Deutschland
CATEGORIES:Vereinsschießen
END:VEVENT
BEGIN:VEVENT
DTSTART;TZID=Europe/Berlin:20250422T180000
DTEND;TZID=Europe/Berlin:20250422T200000
DTSTAMP:20260422T024413
CREATED:20250418T093200Z
LAST-MODIFIED:20250424T093430Z
UID:2491-1745344800-1745352000@jagdverein-hubertus.de
SUMMARY:ASP Dialogabend
DESCRIPTION:Einladung zur Dialogveranstaltung ASP-Bekämpfung in Hessen.im Forum des Landratsamt Hochtaunuskreis Ludwig-Erhard-Anlage 1-5 61352 Bad Homburg. \n\n\n\nEinladung ASP-Dialog HochtaunuskreisHerunterladen
URL:https://jagdverein-hubertus.de/event/asp-dialogabend/
LOCATION:Hessen
CATEGORIES:Veranstaltungen
END:VEVENT
END:VCALENDAR