BEGIN:VCALENDAR
VERSION:2.0
PRODID:-//Jagdverein Hubertus Bad Homburg e.V. - ECPv6.15.20//NONSGML v1.0//EN
CALSCALE:GREGORIAN
METHOD:PUBLISH
X-ORIGINAL-URL:https://jagdverein-hubertus.de
X-WR-CALDESC:Veranstaltungen für Jagdverein Hubertus Bad Homburg e.V.
REFRESH-INTERVAL;VALUE=DURATION:PT1H
X-Robots-Tag:noindex
X-PUBLISHED-TTL:PT1H
BEGIN:VTIMEZONE
TZID:Europe/Berlin
BEGIN:DAYLIGHT
TZOFFSETFROM:+0100
TZOFFSETTO:+0200
TZNAME:CEST
DTSTART:20250330T010000
END:DAYLIGHT
BEGIN:STANDARD
TZOFFSETFROM:+0200
TZOFFSETTO:+0100
TZNAME:CET
DTSTART:20251026T010000
END:STANDARD
BEGIN:DAYLIGHT
TZOFFSETFROM:+0100
TZOFFSETTO:+0200
TZNAME:CEST
DTSTART:20260329T010000
END:DAYLIGHT
BEGIN:STANDARD
TZOFFSETFROM:+0200
TZOFFSETTO:+0100
TZNAME:CET
DTSTART:20261025T010000
END:STANDARD
BEGIN:DAYLIGHT
TZOFFSETFROM:+0100
TZOFFSETTO:+0200
TZNAME:CEST
DTSTART:20270328T010000
END:DAYLIGHT
BEGIN:STANDARD
TZOFFSETFROM:+0200
TZOFFSETTO:+0100
TZNAME:CET
DTSTART:20271031T010000
END:STANDARD
END:VTIMEZONE
BEGIN:VEVENT
DTSTART;TZID=Europe/Berlin:20261109T200000
DTEND;TZID=Europe/Berlin:20261109T210000
DTSTAMP:20260422T024633
CREATED:20260302T170850Z
LAST-MODIFIED:20260302T170851Z
UID:2688-1794254400-1794258000@jagdverein-hubertus.de
SUMMARY:Schießkino Hitpoint Steinbach
DESCRIPTION:Infos zur Kontaktaufnahme und ein Mailformular finden sie hier.: https://jagdverein-hubertus.de/schiesskino-aktion/
URL:https://jagdverein-hubertus.de/event/schiesskino-hitpoint-steinbach-26/
LOCATION:Schießkino Hitpiont Steinbach\, Bahnstr. 51\, Steinbach\, Hessen\, 61449\, Deutschland
CATEGORIES:Schießkino
END:VEVENT
END:VCALENDAR